BEGIN:VCALENDAR
VERSION:2.0
PRODID:-//ChamberMaster//Event Calendar 2.0//EN
METHOD:PUBLISH
X-PUBLISHED-TTL:P3D
REFRESH-INTERVAL:P3D
CALSCALE:GREGORIAN
BEGIN:VEVENT
DTSTART:20230819T130000Z
DTEND:20230819T200000Z
X-MICROSOFT-CDO-ALLDAYEVENT:FALSE
SUMMARY:2023 Run With The Horses
DESCRIPTION:Saturday\, we will host the 20th Annual "Run with the Horses Marathon" to take place on the Wild Horse Loop Tour. The race will be professionally timed again this year. Timing is more efficient and the results are immediate. The run will begin and end on Expedition Island. This event will also include a   Marathon and a 10K run and will begin at 7:00am. We had over 137 participants for the marathon last year. Locally\, we again drew more from the surrounding area with the addition of the 10K run. Runners proceed through town\, on to the Wild Horse Loop Tour and then turn and follow the same route back. There will be aid stations every two miles with water\, PowerAde and energy snacks alternating at each station. We continue to promote our website specifically for the marathon- www.runwiththehorsesmarathon.com  visit our site to register today!
X-ALT-DESC;FMTTYPE=text/html:Saturday\, we will host the 20th Annual &ldquo\;Run with the Horses Marathon&rdquo\; to take place on the Wild Horse Loop Tour. The race will be professionally timed again this year. Timing is more efficient and the results are immediate. The run will begin and end on Expedition Island. This event will also include a &frac12\; Marathon and a 10K run and will begin at 7:00am. We had over 137 participants for the marathon last year. Locally\, we again drew more from the surrounding area with the addition of the 10K run. Runners proceed through town\, on to the Wild Horse Loop Tour and then turn and follow the same route back. There will be aid stations every two miles with water\, PowerAde and energy snacks alternating at each station. We continue to promote our website specifically for the marathon- <a href="http://www.runwiththehorsesmarathon.com/">www.runwiththehorsesmarathon.com</a> &ndash\;visit our site to register today!
LOCATION:Expedition Island
UID:e.796.46821
SEQUENCE:3
DTSTAMP:20260421T204749Z
URL:http://business.grchamber.com/events/details/2023-run-with-the-horses-46821
END:VEVENT

END:VCALENDAR
