BEGIN:VCALENDAR
VERSION:2.0
PRODID:-//ChamberMaster//Event Calendar 2.0//EN
METHOD:PUBLISH
X-PUBLISHED-TTL:P3D
REFRESH-INTERVAL:P3D
CALSCALE:GREGORIAN
BEGIN:VEVENT
DTSTART:20230818T220000Z
DTEND:20230819T220000Z
X-MICROSOFT-CDO-ALLDAYEVENT:FALSE
SUMMARY:2023 River Festival
DESCRIPTION:The Green River Chamber of Commerce is hosting the 22nd Annual River Festival\, August 18 & 19\, 2023. The Chamber is a non-profit organization and is working to provide the community with a quality event for both spectators and participants.
X-ALT-DESC;FMTTYPE=text/html:<span style="font-size:12px\;"><span style="font-family:arial\;">The Green River Chamber of Commerce is hosting the 22nd Annual River Festival\, August 18 &amp\; 19\, 2023. The Chamber is a non-profit organization and is working to provide the community with a quality event for both spectators and participants.</span></span>
LOCATION:Expedition Island Green River WY\, 82935
UID:e.796.46813
SEQUENCE:3
DTSTAMP:20260421T205243Z
URL:http://business.grchamber.com/events/details/2023-river-festival-46813
END:VEVENT

END:VCALENDAR
