BEGIN:VCALENDAR
VERSION:2.0
PRODID:-//ChamberMaster//Event Calendar 2.0//EN
METHOD:PUBLISH
X-PUBLISHED-TTL:P3D
REFRESH-INTERVAL:P3D
CALSCALE:GREGORIAN
BEGIN:VEVENT
DTSTART:20231118T000000Z
DTEND:20231118T220000Z
X-MICROSOFT-CDO-ALLDAYEVENT:FALSE
SUMMARY:2023 Holiday Business Showcase
DESCRIPTION:The Green River Chamber of Commerce is hosting the 8th Annual Holiday Business Showcase\, November 17th & 18th\, 2023. Open to public (no entry fee) and will be located at the Pavilion on Expedition Island. You will be able to check many gifts off your holiday shopping list by supporting and shopping local at the Holiday Business Showcase! The Green River Chamber is a non-profit organization and is working to provide our local business community an opportunity to showcase their goods and services
X-ALT-DESC;FMTTYPE=text/html:<span style="font-family:arial\,sans-serif\;"><span style="font-size:12.0pt\;">The Green River Chamber of Commerce is hosting the 8<sup>th</sup> Annual Holiday Business Showcase\, November 17<sup>th</sup> &amp\; 18<sup>th</sup>\, 2023. Open to public (no entry fee) and will be located at the Pavilion on Expedition Island.&nbsp\;You will be able to check many gifts off your holiday shopping list by supporting and shopping local at the Holiday Business Showcase! The Green River Chamber is a non-profit organization and is working to provide our local business community an opportunity to showcase their goods and services</span></span>
LOCATION:Expedition Island Pavilion
UID:e.796.46814
SEQUENCE:3
DTSTAMP:20260421T153543Z
URL:http://business.grchamber.com/events/details/2023-holiday-business-showcase-46814
END:VEVENT

END:VCALENDAR
