BEGIN:VCALENDAR
VERSION:2.0
PRODID:-//ChamberMaster//Event Calendar 2.0//EN
METHOD:PUBLISH
X-PUBLISHED-TTL:P3D
REFRESH-INTERVAL:P3D
CALSCALE:GREGORIAN
BEGIN:VEVENT
DTSTART:20230819T170000Z
DTEND:20230819T210000Z
X-MICROSOFT-CDO-ALLDAYEVENT:FALSE
SUMMARY:2023 Car & Bike Show
DESCRIPTION:The Car Show on Evers Park will once again be hosted by the Sweetwater Rodders so polish up your favorite ride. Cars\, trucks\, motorcycles\, vintage and new are welcome. We had 62 cars and motorcycles register last year. You can register your ride at the Green River Chamber or on the day of the event. Registration costs $10 per vehicle.
X-ALT-DESC;FMTTYPE=text/html:<span style="font-family:times new roman\,serif\;"><span style="font-size:12.0pt\;">The Car Show on Evers Park will once again be hosted by the Sweetwater Rodders&mdash\;so polish up your favorite ride. Cars\, trucks\, motorcycles\, vintage and new are welcome. We had 62 cars and motorcycles register last year. You can register your ride at the Green River Chamber or on the day of the event. Registration costs $10 per vehicle.</span></span>
LOCATION:Evers Park
UID:e.796.46825
SEQUENCE:3
DTSTAMP:20260421T192831Z
URL:http://business.grchamber.com/events/details/2023-car-bike-show-46825
END:VEVENT

END:VCALENDAR
