BEGIN:VCALENDAR
VERSION:2.0
PRODID:-//ChamberMaster//Event Calendar 2.0//EN
METHOD:PUBLISH
X-PUBLISHED-TTL:P3D
REFRESH-INTERVAL:P3D
CALSCALE:GREGORIAN
BEGIN:VEVENT
DTSTART:20230818T230000Z
DTEND:20230819T010000Z
X-MICROSOFT-CDO-ALLDAYEVENT:FALSE
SUMMARY:2023 Cajun Shrimp Boil
DESCRIPTION:At 5:00 pm\, we will again have a Cajun Shrimp Boil open to the public. Tickets will be sold in advance with 800 meals available. We will have tickets for sale in early July\, make sure and get them early as we sell out every year! Our Cajun shrimp boil is a fan favorite! You will have the option to purchase a 5:00 dinner ticket or a 6:00pm dinner ticket. Prices are $20 for "Canoe" (approx.   lb of shrimp) plus potatoes\, corn\, sausage and soda or water\, $30.00 for "Boat" (approx. 1 lb of shrimp) plus potatoes\, corn\, sausage and soda or water. $55 for  2 "Boat" our Date Night special. We can also do TO-GO boxes\, for those of you who would like to eat at home
X-ALT-DESC;FMTTYPE=text/html:<span style="font-family:times new roman\,serif\;"><span style="font-size:12.0pt\;">At 5:00 pm\, we will again have a Cajun Shrimp Boil open to the public. Tickets will be sold in advance with 800 meals available. We will have tickets for sale in early July\, make sure and get them early as we sell out every year! Our Cajun shrimp boil is a fan favorite! You will have the option to purchase a 5:00 dinner ticket or a 6:00pm dinner ticket. Prices are $20 for &ldquo\;Canoe&rdquo\; (approx. &frac12\; lb of shrimp) plus potatoes\, corn\, sausage and soda or water\, $30.00 for &ldquo\;Boat&rdquo\; (approx. 1 lb of shrimp) plus potatoes\, corn\, sausage and soda or water. $55 for&nbsp\; 2 &ldquo\;Boat&rdquo\; our Date Night special. We can also do TO-GO boxes\, for those of you who would like to eat at home</span></span>
LOCATION:Expedition Island
UID:e.796.46818
SEQUENCE:3
DTSTAMP:20260421T204932Z
URL:http://business.grchamber.com/events/details/2023-cajun-shrimp-boil-46818
END:VEVENT

END:VCALENDAR
