BEGIN:VCALENDAR
VERSION:2.0
PRODID:-//ChamberMaster//Event Calendar 2.0//EN
METHOD:PUBLISH
X-PUBLISHED-TTL:P3D
REFRESH-INTERVAL:P3D
CALSCALE:GREGORIAN
BEGIN:VEVENT
DTSTART:20221119T170000Z
DTEND:20221119T220000Z
X-MICROSOFT-CDO-ALLDAYEVENT:FALSE
SUMMARY:2022 Holiday Business Showcase
DESCRIPTION:The Green River Chamber of Commerce Business Development and Retention Committee is hosting the 7th Annual Holiday Business Showcase\, November 18th & 19th\, 2022. Open to public (no entry fee) and will be located at the Pavilion on Expedition Island.\n\nFriday Night and Saturday: Numerous vendors will be selling merchandise from local homebased and store front business featuring homemade crafts\, gift baskets\, books\, candles\, clothing\, baked goods\, board games and so much more. The Hitching Post Restaurant will be selling nachos and chili. Raffle Tickets will be available for Wyoming made gift baskets\, tickets are $1 each or 6 for $5. (You do not need to be present to win) Event will open Friday night from 5pm-9pm. Western Wyoming Beverages will be providing free samples. Saturday the event will be open from 10am-3pm. Teton Distributors will be providing free beer samples. Saturday we will have a special guest coming down from the North Pole\, Santa & Mrs. Clause. You will be able to check many gifts off your holiday shopping list by supporting and shopping local at the Holiday Business Showcase!
X-ALT-DESC;FMTTYPE=text/html:The Green River Chamber of Commerce Business Development and Retention Committee is hosting the 7th Annual Holiday Business Showcase\, November 18th &amp\; 19th\, 2022. Open to public (no entry fee) and will be located at the Pavilion on Expedition Island.<br />\nFriday Night and Saturday: Numerous vendors will be selling merchandise from local homebased and store front business featuring homemade crafts\, gift baskets\, books\, candles\, clothing\, baked goods\, board games and so much more. The Hitching Post Restaurant will be selling nachos and chili. Raffle Tickets will be available for Wyoming made gift baskets\, tickets are $1 each or 6 for $5. (You do not need to be present to win) Event will open Friday night from 5pm-9pm. Western Wyoming Beverages will be providing free samples. Saturday the event will be open from 10am-3pm. Teton Distributors will be providing free beer samples. Saturday we will have a special guest coming down from the North Pole\, Santa &amp\; Mrs. Clause. You will be able to check many gifts off your holiday shopping list by supporting and shopping local at the Holiday Business Showcase!
LOCATION:Expedition Island Pavilion\, Green River Wyoming
UID:e.796.46184
SEQUENCE:3
DTSTAMP:20260422T103130Z
URL:http://business.grchamber.com/events/details/2022-holiday-business-showcase-46184
END:VEVENT

END:VCALENDAR
