BEGIN:VCALENDAR
VERSION:2.0
PRODID:-//ChamberMaster//Event Calendar 2.0//EN
METHOD:PUBLISH
X-PUBLISHED-TTL:P3D
REFRESH-INTERVAL:P3D
CALSCALE:GREGORIAN
BEGIN:VEVENT
DTSTART:20251213T230000Z
DTEND:20251213T230000Z
X-MICROSOFT-CDO-ALLDAYEVENT:FALSE
SUMMARY:12th Annual Muley Fanatic Foundation Cowboy Christmas Ball
DESCRIPTION:12th Annual Muley Fanatic Foundation Cowboy Christmas Ball\n\n\n\nGames\, Raffles\, Big Prize Giveaways\, Entertainment\, Holiday Cheer\, Tasty Grub\, and Free Event Photos.
X-ALT-DESC;FMTTYPE=text/html:12th Annual Muley Fanatic Foundation Cowboy Christmas Ball<br />\n<br />\nGames\, Raffles\, Big Prize Giveaways\, Entertainment\, Holiday Cheer\, Tasty Grub\, and Free Event Photos.
LOCATION:The Pavilion\, Green River\, WY
UID:e.796.49529
SEQUENCE:3
DTSTAMP:20260425T203304Z
URL:http://business.grchamber.com/events/details/12th-annual-muley-fanatic-foundation-cowboy-christmas-ball-49529
END:VEVENT

END:VCALENDAR
